DBI v1.643 Perl 5 v5.24.2 i386-freebsd-64int
- Status
- Pass
- From
- Chris Williams (BINGOS)
- Dist
-
DBI v1.643
- Platform
- Perl 5 v5.24.2 i386-freebsd-64int
- Date
- 2023-09-03T17:05:28
- ID
- 151d3d0c-4a7c-11ee-98b0-b3c3213a625c
This distribution has been tested as part of the CPAN Testers
project, supporting the Perl programming language. See
http://wiki.cpantesters.org/ for more information or email
questions to cpan-testers-discuss@perl.org
--
Dear Tim Bunce,
This is a computer-generated error report created automatically by
CPANPLUS, version 0.9914. Testers personal comments may appear
at the end of this report.
Thank you for uploading your work to CPAN. Congratulations!
All tests were successful.
TEST RESULTS:
Below is the error stack from stage 'make test':
"/usr/home/cpan/pit/64bit/perl-5.24.2/bin/perl" -MExtUtils::Command::MM -e 'cp_nonempty' -- DBI.bs blib/arch/auto/DBI/DBI.bs 644
PERL_DL_NONLAZY=1 "/usr/home/cpan/pit/64bit/perl-5.24.2/bin/perl" "-Iblib/lib" "-Iblib/arch" test.pl
test.pl
DBI test application $Revision$
Switch: DBI 1.643 by Tim Bunce, 1.643
Available Drivers: DBM, ExampleP, File, Gofer, Mem, Proxy, Sponge
dbi:ExampleP:: testing 3 sets of 20 connections:
Connecting... 1 2 3 4 5 6 7 8 9 10 11 12 13 14 15 16 17 18 19 20
Disconnecting...
Connecting... 1 2 3 4 5 6 7 8 9 10 11 12 13 14 15 16 17 18 19 20
Disconnecting...
Connecting... 1 2 3 4 5 6 7 8 9 10 11 12 13 14 15 16 17 18 19 20
Disconnecting...
connect 20 and disconnect them, 3 times: 0.0274s / 60 = 0.0005s
Testing handle creation speed...
27526 NullP sth/s perl 5.024002 i386-freebsd-64int (gcc FreeBSD -O2) 0.000036s
test.pl done
PERL_DL_NONLAZY=1 "/usr/home/cpan/pit/64bit/perl-5.24.2/bin/perl" "-MExtUtils::Command::MM" "-MTest::Harness" "-e" "undef *Test::Harness::Switches; test_harness(0, 'blib/lib', 'blib/arch')" t/*.t
# --- Perl 5.024002 on i386-freebsd-64int
t/01basics.t .................... ok
SV = IV(0x208b7bc8) at 0x208b7bcc
REFCNT = 1
FLAGS = (ROK,READONLY,PROTECT)
RV = 0x20f1b474
SV = PVHV(0x208651d0) at 0x20f1b474
REFCNT = 1
FLAGS = (OBJECT,SHAREKEYS)
STASH = 0x20905960 "DBI::dr"
ARRAY = 0x20890380 (0:10, 1:4, 2:2)
hash quality = 95.8%
KEYS = 8
FILL = 6
MAX = 15
Elt "TraceLevel" HASH = 0x9be7a3d0
SV = IV(0x20f1e240) at 0x20f1e244
REFCNT = 1
FLAGS = (IOK,pIOK)
IV = 0
Elt "State" HASH = 0x3bd3b310
SV = IV(0x20f1b664) at 0x20f1b668
REFCNT = 1
FLAGS = (ROK)
RV = 0x20fa10b4
SV = NULL(0x0) at 0x20fa10b4
REFCNT = 1
FLAGS = ()
Elt "Err" HASH = 0x546c1192
SV = IV(0x20f1b538) at 0x20f1b53c
REFCNT = 1
FLAGS = (ROK)
RV = 0x20fa10c8
SV = NULL(0x0) at 0x20fa10c8
REFCNT = 1
FLAGS = ()
(in cleanup) dbih_getcom handle DBI::dr=HASH(0x20f1b474) is not a DBI handle (has no magic) during global destruction.
t/02dbidrv.t .................... ok
t/03handle.t .................... ok
t/04mods.t ...................... ok
t/05concathash.t ................ ok
t/06attrs.t ..................... ok
t/07kids.t ...................... ok
t/08keeperr.t ................... ok
t/09trace.t ..................... ok
t/10examp.t ..................... ok
t/11fetch.t ..................... ok
t/12quote.t ..................... ok
t/13taint.t ..................... ok
t/14utf8.t ...................... ok
t/15array.t ..................... ok
t/16destroy.t ................... ok
t/17handle_error.t .............. ok
t/19fhtrace.t ................... ok
t/20meta.t ...................... ok
t/30subclass.t .................. ok
t/31methcache.t ................. ok
t/35thrclone.t .................. skipped: this freebsd perl 5.024002 not supported for DBI iThreads
t/40profile.t ................... ok
t/41prof_dump.t ................. ok
t/42prof_data.t ................. ok
t/43prof_env.t .................. ok
t/48dbi_dbd_sqlengine.t ......... ok
t/49dbd_file.t .................. ok
t/50dbm_simple.t ................ ok
t/51dbm_file.t .................. ok
t/52dbm_complex.t ............... skipped: DBI::SQL::Nano is being used
t/53sqlengine_adv.t ............. ok
t/54_dbd_mem.t .................. ok
t/60preparse.t .................. ok
t/65transact.t .................. ok
t/70callbacks.t ................. ok
t/72childhandles.t .............. ok
t/73cachedkids.t ................ ok
t/80proxy.t ..................... skipped: modules required for proxy are probably not installed (e.g., RPC/PlClient.pm)
t/85gofer.t ..................... ok
t/86gofer_fail.t ................ ok
t/87gofer_cache.t ............... ok
t/90sql_type_cast.t ............. ok
t/91_store_warning.t ............ ok
t/pod-coverage.t ................ skipped: Test::Pod::Coverage 1.04 required for testing POD coverage
t/pod.t ......................... skipped: Test::Pod 1.41 required for testing POD
# --- Perl 5.024002 on i386-freebsd-64int
t/zvg_01basics.t ................ ok
SV = IV(0x20862754) at 0x20862758
REFCNT = 1
FLAGS = (ROK,READONLY,PROTECT)
RV = 0x20f05d48
SV = PVHV(0x20fe2980) at 0x20f05d48
REFCNT = 1
FLAGS = (OBJECT,SHAREKEYS)
STASH = 0x209069d8 "DBI::dr"
ARRAY = 0x20890480 (0:10, 1:4, 2:2)
hash quality = 95.8%
KEYS = 8
FILL = 6
MAX = 15
Elt "ImplementorClass" HASH = 0xb9add941
SV = PV(0x20863668) at 0x20fa10c8
REFCNT = 1
FLAGS = (POK,IsCOW,pPOK)
PV = 0x2091b380 "DBD::Test::OverLongxxxxxxxxxxxxxxxxxxxxxxxxxxxxxxxxxxxxxxxxxxxxxxxxxxxxxxxxxxxxxxxxxxxxxxxxxxxxxxxxxxxxxxxxxxxxxxxxxxxxxxxxxxxxxxxxxxxxxxxxxxxxxxxxxxxxxxxxxxxxxxxxxxxxxxxxxxxxxxxxxxxxxxxxxxxxxxxxxxxxxxxxxxxxxxxxxxxxxxxxxxxxxxxxxxxxxxxxxxxxxxxxxxxxxxxxxxxxxxxxxxxxxxxxxxxxxxxxxxxxxxxxxxxxxxxxxxxxxxxxxxxxxxxxxxxxxxxxxxxx"\0
CUR = 319
LEN = 321
COW_REFCNT = 0
Elt "FetchHashKeyName" HASH = 0x84170943
SV = PV(0x20f062a0) at 0x20f24c44
REFCNT = 1
FLAGS = (POK,IsCOW,pPOK)
PV = 0x20f70430 "NAME"\0
CUR = 4
LEN = 10
COW_REFCNT = 2
Elt "Name" HASH = 0x3b2bfa34
SV = PV(0x20f06220) at 0x20f24d34
REFCNT = 1
FLAGS = (POK,IsCOW,pPOK)
PV = 0x2086a7e0 "Test"\0
CUR = 4
LEN = 10
COW_REFCNT = 0
(in cleanup) dbih_getcom handle DBI::dr=HASH(0x20f05d48) is not a DBI handle (has no magic) during global destruction.
t/zvg_02dbidrv.t ................ ok
t/zvg_03handle.t ................ ok
t/zvg_04mods.t .................. ok
t/zvg_05concathash.t ............ ok
t/zvg_06attrs.t ................. ok
t/zvg_07kids.t .................. ok
t/zvg_08keeperr.t ............... ok
t/zvg_09trace.t ................. ok
t/zvg_10examp.t ................. ok
t/zvg_11fetch.t ................. ok
t/zvg_12quote.t ................. ok
t/zvg_13taint.t ................. skipped: Taint attribute tests not functional with DBI_AUTOPROXY
t/zvg_14utf8.t .................. ok
t/zvg_15array.t ................. ok
t/zvg_16destroy.t ............... ok
t/zvg_17handle_error.t .......... ok
t/zvg_19fhtrace.t ............... ok
t/zvg_20meta.t .................. ok
t/zvg_30subclass.t .............. ok
t/zvg_31methcache.t ............. ok
t/zvg_35thrclone.t .............. skipped: this freebsd perl 5.024002 not supported for DBI iThreads
t/zvg_40profile.t ............... ok
t/zvg_41prof_dump.t ............. ok
t/zvg_42prof_data.t ............. ok
t/zvg_43prof_env.t .............. ok
t/zvg_48dbi_dbd_sqlengine.t ..... ok
t/zvg_49dbd_file.t .............. ok
t/zvg_50dbm_simple.t ............ ok
t/zvg_51dbm_file.t .............. ok
t/zvg_52dbm_complex.t ........... skipped: DBI::SQL::Nano is being used
t/zvg_53sqlengine_adv.t ......... skipped: Modifying driver state won't compute running behind Gofer
t/zvg_54_dbd_mem.t .............. skipped: modifying meta data doesn't work with Gofer-AutoProxy
t/zvg_60preparse.t .............. ok
t/zvg_65transact.t .............. skipped: Transactions not supported by DBD::Gofer
t/zvg_70callbacks.t ............. ok
t/zvg_72childhandles.t .......... ok
t/zvg_73cachedkids.t ............ ok
t/zvg_80proxy.t ................. skipped: modules required for proxy are probably not installed (e.g., RPC/PlClient.pm)
t/zvg_85gofer.t ................. ok
t/zvg_86gofer_fail.t ............ skipped: Gofer DBI_AUTOPROXY
t/zvg_87gofer_cache.t ........... skipped: Gofer DBI_AUTOPROXY
t/zvg_90sql_type_cast.t ......... ok
t/zvg_91_store_warning.t ........ ok
t/zvn_48dbi_dbd_sqlengine.t ..... ok
t/zvn_49dbd_file.t .............. ok
t/zvn_50dbm_simple.t ............ ok
t/zvn_51dbm_file.t .............. ok
t/zvn_52dbm_complex.t ........... skipped: DBI::SQL::Nano is being used
t/zvn_85gofer.t ................. ok
# --- Perl 5.024002 on i386-freebsd-64int
t/zvp_01basics.t ................ ok
t/zvp_02dbidrv.t ................ ok
t/zvp_03handle.t ................ ok
t/zvp_04mods.t .................. ok
t/zvp_05concathash.t ............ ok
t/zvp_06attrs.t ................. ok
t/zvp_07kids.t .................. skipped: $h->{Kids} attribute not supported for DBI::PurePerl
t/zvp_08keeperr.t ............... ok
t/zvp_09trace.t ................. ok
t/zvp_10examp.t ................. ok
t/zvp_11fetch.t ................. ok
t/zvp_12quote.t ................. ok
t/zvp_13taint.t ................. skipped: Taint attributes not supported with DBI::PurePerl
t/zvp_14utf8.t .................. ok
t/zvp_15array.t ................. ok
t/zvp_16destroy.t ............... ok
t/zvp_17handle_error.t .......... ok
t/zvp_19fhtrace.t ............... ok
t/zvp_20meta.t .................. ok
t/zvp_30subclass.t .............. ok
t/zvp_31methcache.t ............. ok
t/zvp_35thrclone.t .............. skipped: this freebsd perl 5.024002 not supported for DBI iThreads
t/zvp_40profile.t ............... skipped: profiling not supported for DBI::PurePerl
t/zvp_41prof_dump.t ............. skipped: profiling not supported for DBI::PurePerl
t/zvp_42prof_data.t ............. skipped: profiling not supported for DBI::PurePerl
t/zvp_43prof_env.t .............. skipped: profiling not supported for DBI::PurePerl
t/zvp_48dbi_dbd_sqlengine.t ..... ok
t/zvp_49dbd_file.t .............. ok
t/zvp_50dbm_simple.t ............ ok
t/zvp_51dbm_file.t .............. ok
t/zvp_52dbm_complex.t ........... skipped: DBI::SQL::Nano is being used
t/zvp_53sqlengine_adv.t ......... ok
t/zvp_54_dbd_mem.t .............. ok
t/zvp_60preparse.t .............. skipped: preparse not supported for DBI::PurePerl
t/zvp_65transact.t .............. ok
t/zvp_70callbacks.t ............. skipped: $h->{Callbacks} attribute not supported for DBI::PurePerl
t/zvp_72childhandles.t .......... ok
t/zvp_73cachedkids.t ............ ok
t/zvp_80proxy.t ................. skipped: modules required for proxy are probably not installed (e.g., RPC/PlClient.pm)
t/zvp_85gofer.t ................. ok
t/zvp_86gofer_fail.t ............ skipped: requires Callbacks which are not supported with PurePerl
t/zvp_87gofer_cache.t ........... ok
t/zvp_90sql_type_cast.t ......... ok
t/zvp_91_store_warning.t ........ ok
t/zvxgn_48dbi_dbd_sqlengine.t ... ok
t/zvxgn_49dbd_file.t ............ ok
t/zvxgn_50dbm_simple.t .......... ok
t/zvxgn_51dbm_file.t ............ ok
t/zvxgn_52dbm_complex.t ......... skipped: DBI::SQL::Nano is being used
t/zvxgn_85gofer.t ............... ok
t/zvxgnp_48dbi_dbd_sqlengine.t .. ok
t/zvxgnp_49dbd_file.t ........... ok
t/zvxgnp_50dbm_simple.t ......... ok
t/zvxgnp_51dbm_file.t ........... ok
t/zvxgnp_52dbm_complex.t ........ skipped: DBI::SQL::Nano is being used
t/zvxgnp_85gofer.t .............. ok
# --- Perl 5.024002 on i386-freebsd-64int
t/zvxgp_01basics.t .............. ok
t/zvxgp_02dbidrv.t .............. ok
t/zvxgp_03handle.t .............. ok
t/zvxgp_04mods.t ................ ok
t/zvxgp_05concathash.t .......... ok
t/zvxgp_06attrs.t ............... ok
t/zvxgp_07kids.t ................ skipped: $h->{Kids} attribute not supported for DBI::PurePerl
t/zvxgp_08keeperr.t ............. ok
t/zvxgp_09trace.t ............... ok
t/zvxgp_10examp.t ............... ok
t/zvxgp_11fetch.t ............... ok
t/zvxgp_12quote.t ............... ok
t/zvxgp_13taint.t ............... skipped: Taint attributes not supported with DBI::PurePerl
t/zvxgp_14utf8.t ................ ok
t/zvxgp_15array.t ............... ok
t/zvxgp_16destroy.t ............. ok
t/zvxgp_17handle_error.t ........ ok
t/zvxgp_19fhtrace.t ............. ok
t/zvxgp_20meta.t ................ ok
t/zvxgp_30subclass.t ............ ok
t/zvxgp_31methcache.t ........... ok
t/zvxgp_35thrclone.t ............ skipped: this freebsd perl 5.024002 not supported for DBI iThreads
t/zvxgp_40profile.t ............. skipped: profiling not supported for DBI::PurePerl
t/zvxgp_41prof_dump.t ........... skipped: profiling not supported for DBI::PurePerl
t/zvxgp_42prof_data.t ........... skipped: profiling not supported for DBI::PurePerl
t/zvxgp_43prof_env.t ............ skipped: profiling not supported for DBI::PurePerl
t/zvxgp_48dbi_dbd_sqlengine.t ... ok
t/zvxgp_49dbd_file.t ............ ok
t/zvxgp_50dbm_simple.t .......... ok
t/zvxgp_51dbm_file.t ............ ok
t/zvxgp_52dbm_complex.t ......... skipped: DBI::SQL::Nano is being used
t/zvxgp_53sqlengine_adv.t ....... skipped: Modifying driver state won't compute running behind Gofer
t/zvxgp_54_dbd_mem.t ............ skipped: modifying meta data doesn't work with Gofer-AutoProxy
t/zvxgp_60preparse.t ............ skipped: preparse not supported for DBI::PurePerl
t/zvxgp_65transact.t ............ skipped: Transactions not supported by DBD::Gofer
t/zvxgp_70callbacks.t ........... skipped: $h->{Callbacks} attribute not supported for DBI::PurePerl
t/zvxgp_72childhandles.t ........ ok
t/zvxgp_73cachedkids.t .......... ok
t/zvxgp_80proxy.t ............... skipped: modules required for proxy are probably not installed (e.g., RPC/PlClient.pm)
t/zvxgp_85gofer.t ............... ok
t/zvxgp_86gofer_fail.t .......... skipped: requires Callbacks which are not supported with PurePerl
t/zvxgp_87gofer_cache.t ......... skipped: Gofer DBI_AUTOPROXY
t/zvxgp_90sql_type_cast.t ....... ok
t/zvxgp_91_store_warning.t ...... ok
t/zvxnp_48dbi_dbd_sqlengine.t ... ok
t/zvxnp_49dbd_file.t ............ ok
t/zvxnp_50dbm_simple.t .......... ok
t/zvxnp_51dbm_file.t ............ ok
t/zvxnp_52dbm_complex.t ......... skipped: DBI::SQL::Nano is being used
t/zvxnp_85gofer.t ............... ok
All tests successful.
Files=202, Tests=9299, 324 wallclock secs ( 5.20 usr 1.86 sys + 230.08 cusr 78.15 csys = 315.29 CPU)
Result: PASS
PREREQUISITES:
Here is a list of prerequisites you specified and versions we
managed to load:
Module Name Have Want
ExtUtils::MakeMaker 7.70 6.48
Test::Simple 1.302195 0.90
Perl module toolchain versions installed:
Module Name Have
CPANPLUS 0.9914
CPANPLUS::Dist::Build 0.90
Cwd 3.75
ExtUtils::CBuilder 0.280236
ExtUtils::Command 7.70
ExtUtils::Install 2.22
ExtUtils::MakeMaker 7.70
ExtUtils::Manifest 1.75
ExtUtils::ParseXS 3.44
File::Spec 3.75
Module::Build 0.4234
Pod::Parser 1.63
Pod::Simple 3.32
Test2 1.302195
Test::Harness 3.44
Test::More 1.302195
version 0.9929
******************************** NOTE ********************************
The comments above are created mechanically, possibly without manual
checking by the sender. As there are many people performing automatic
tests on each upload to CPAN, it is likely that you will receive
identical messages about the same problem.
If you believe that the message is mistaken, please reply to the first
one with correction and/or additional informations, and do not take
it personally. We appreciate your patience. :)
**********************************************************************
Additional comments:
This report was machine-generated by CPANPLUS::Dist::YACSmoke 1.08.
Powered by minismokebox version 0.68
CPANPLUS is prefering Build.PL
------------------------------
ENVIRONMENT AND OTHER CONTEXT
------------------------------
Environment variables:
AUTOMATED_TESTING = 1
LANG = C.UTF-8
NONINTERACTIVE_TESTING = 1
PATH = /usr/home/cpan/pit/64bit/conf/perl-5.24.2/.cpanplus/5.24.2/build/bi3qB_pEYc/DBI-1.643/blib/script:/sbin:/bin:/usr/sbin:/usr/bin:/usr/local/sbin:/usr/local/bin:/home/cpan/bin
PERL5LIB = /usr/home/cpan/pit/jail/OdzCTaXYpD/lib/perl5:/usr/home/cpan/pit/64bit/conf/perl-5.24.2/.cpanplus/5.24.2/build/93C97TN6S4/Params-Classify-0.015/blib/lib:/usr/home/cpan/pit/64bit/conf/perl-5.24.2/.cpanplus/5.24.2/build/93C97TN6S4/Params-Classify-0.015/blib/arch:/usr/home/cpan/pit/64bit/conf/perl-5.24.2/.cpanplus/5.24.2/build/ypK0Pyum2W/Class-Mix-0.006/blib/lib:/usr/home/cpan/pit/64bit/conf/perl-5.24.2/.cpanplus/5.24.2/build/ypK0Pyum2W/Class-Mix-0.006/blib/arch:/usr/home/cpan/pit/64bit/conf/perl-5.24.2/.cpanplus/5.24.2/build/vA2qHUAV8M/Crypt-Eksblowfish-0.009/blib/lib:/usr/home/cpan/pit/64bit/conf/perl-5.24.2/.cpanplus/5.24.2/build/vA2qHUAV8M/Crypt-Eksblowfish-0.009/blib/arch:/usr/home/cpan/pit/64bit/conf/perl-5.24.2/.cpanplus/5.24.2/build/bi3qB_pEYc/DBI-1.643/blib/lib:/usr/home/cpan/pit/64bit/conf/perl-5.24.2/.cpanplus/5.24.2/build/bi3qB_pEYc/DBI-1.643/blib/arch
PERL5_CPANPLUS_IS_RUNNING = 38098
PERL5_CPANPLUS_IS_VERSION = 0.9914
PERL5_MINISMOKEBOX = 0.68
PERL5_YACSMOKE_BASE = /usr/home/cpan/pit/64bit/conf/perl-5.24.2
PERL_EXTUTILS_AUTOINSTALL = --defaultdeps
PERL_LOCAL_LIB_ROOT = /usr/home/cpan/pit/jail/OdzCTaXYpD
PERL_MB_OPT = --install_base "/usr/home/cpan/pit/jail/OdzCTaXYpD"
PERL_MM_OPT = INSTALL_BASE=/usr/home/cpan/pit/jail/OdzCTaXYpD
PERL_MM_USE_DEFAULT = 1
PERL_USE_UNSAFE_INC = 1
SHELL = /usr/local/bin/bash
TERM = screen
Perl special variables (and OS-specific diagnostics, for MSWin32):
Perl: $^X = /usr/home/cpan/pit/64bit/perl-5.24.2/bin/perl
UID: $< = 1002
EUID: $> = 1002
GID: $( = 1002 1002
EGID: $) = 1002 1002
-------------------------------
--
Summary of my perl5 (revision 5 version 24 subversion 2) configuration:
Platform:
osname=freebsd, osvers=13.2-release, archname=i386-freebsd-64int
uname='freebsd fiat 13.2-release freebsd 13.2-release releng13.2-n254617-525ecfdad597 generic i386 '
config_args='-des -Dprefix=/usr/home/cpan/pit/64bit/perl-5.24.2 -Duse64bitint'
hint=recommended, useposix=true, d_sigaction=define
useithreads=undef, usemultiplicity=undef
use64bitint=define, use64bitall=undef, uselongdouble=undef
usemymalloc=n, bincompat5005=undef
Compiler:
cc='cc', ccflags ='-DHAS_FPSETMASK -DHAS_FLOATINGPOINT_H -fno-strict-aliasing -pipe -fstack-protector-strong -I/usr/local/include',
optimize='-O2',
cppflags='-DHAS_FPSETMASK -DHAS_FLOATINGPOINT_H -fno-strict-aliasing -pipe -fstack-protector-strong -I/usr/local/include'
ccversion='', gccversion='FreeBSD Clang 14.0.5 (https://github.com/llvm/llvm-project.git llvmorg-14.0.5-0-gc12386ae247c)', gccosandvers=''
intsize=4, longsize=4, ptrsize=4, doublesize=8, byteorder=12345678, doublekind=3
d_longlong=define, longlongsize=8, d_longdbl=define, longdblsize=12, longdblkind=3
ivtype='long long', ivsize=8, nvtype='double', nvsize=8, Off_t='off_t', lseeksize=8
alignbytes=4, prototype=define
Linker and Libraries:
ld='cc', ldflags ='-Wl,-E -fstack-protector-strong -L/usr/local/lib'
libpth=/usr/lib /usr/local/lib /usr/lib/clang/14.0.5/lib /usr/lib
libs=-lpthread -lgdbm -ldl -lm -lcrypt -lutil -lc
perllibs=-lpthread -ldl -lm -lcrypt -lutil -lc
libc=, so=so, useshrplib=false, libperl=libperl.a
gnulibc_version=''
Dynamic Linking:
dlsrc=dl_dlopen.xs, dlext=so, d_dlsymun=undef, ccdlflags=' '
cccdlflags='-DPIC -fPIC', lddlflags='-shared -L/usr/local/lib -fstack-protector-strong'
Characteristics of this binary (from libperl):
Compile-time options: HAS_TIMES PERLIO_LAYERS PERL_COPY_ON_WRITE
PERL_DONT_CREATE_GVSV
PERL_HASH_FUNC_ONE_AT_A_TIME_HARD PERL_MALLOC_WRAP
PERL_PRESERVE_IVUV USE_64_BIT_INT USE_LARGE_FILES
USE_LOCALE USE_LOCALE_COLLATE USE_LOCALE_CTYPE
USE_LOCALE_NUMERIC USE_LOCALE_TIME USE_PERLIO
USE_PERL_ATOF
Locally applied patches:
Devel::PatchPerl 2.08
Built under freebsd
Compiled at May 7 2023 20:34:13
%ENV:
PERL5LIB="/usr/home/cpan/pit/jail/OdzCTaXYpD/lib/perl5:/usr/home/cpan/pit/64bit/conf/perl-5.24.2/.cpanplus/5.24.2/build/93C97TN6S4/Params-Classify-0.015/blib/lib:/usr/home/cpan/pit/64bit/conf/perl-5.24.2/.cpanplus/5.24.2/build/93C97TN6S4/Params-Classify-0.015/blib/arch:/usr/home/cpan/pit/64bit/conf/perl-5.24.2/.cpanplus/5.24.2/build/ypK0Pyum2W/Class-Mix-0.006/blib/lib:/usr/home/cpan/pit/64bit/conf/perl-5.24.2/.cpanplus/5.24.2/build/ypK0Pyum2W/Class-Mix-0.006/blib/arch:/usr/home/cpan/pit/64bit/conf/perl-5.24.2/.cpanplus/5.24.2/build/vA2qHUAV8M/Crypt-Eksblowfish-0.009/blib/lib:/usr/home/cpan/pit/64bit/conf/perl-5.24.2/.cpanplus/5.24.2/build/vA2qHUAV8M/Crypt-Eksblowfish-0.009/blib/arch:/usr/home/cpan/pit/64bit/conf/perl-5.24.2/.cpanplus/5.24.2/build/bi3qB_pEYc/DBI-1.643/blib/lib:/usr/home/cpan/pit/64bit/conf/perl-5.24.2/.cpanplus/5.24.2/build/bi3qB_pEYc/DBI-1.643/blib/arch"
PERL5_CPANPLUS_IS_RUNNING="38098"
PERL5_CPANPLUS_IS_VERSION="0.9914"
PERL5_MINISMOKEBOX="0.68"
PERL5_YACSMOKE_BASE="/usr/home/cpan/pit/64bit/conf/perl-5.24.2"
PERL_EXTUTILS_AUTOINSTALL="--defaultdeps"
PERL_LOCAL_LIB_ROOT="/usr/home/cpan/pit/jail/OdzCTaXYpD"
PERL_MB_OPT="--install_base "/usr/home/cpan/pit/jail/OdzCTaXYpD""
PERL_MM_OPT="INSTALL_BASE=/usr/home/cpan/pit/jail/OdzCTaXYpD"
PERL_MM_USE_DEFAULT="1"
PERL_USE_UNSAFE_INC="1"
@INC:
/usr/home/cpan/pit/jail/OdzCTaXYpD/lib/perl5/5.24.2/i386-freebsd-64int
/usr/home/cpan/pit/jail/OdzCTaXYpD/lib/perl5/5.24.2
/usr/home/cpan/pit/jail/OdzCTaXYpD/lib/perl5/i386-freebsd-64int
/usr/home/cpan/pit/jail/OdzCTaXYpD/lib/perl5
/usr/home/cpan/pit/64bit/conf/perl-5.24.2/.cpanplus/5.24.2/build/93C97TN6S4/Params-Classify-0.015/blib/lib
/usr/home/cpan/pit/64bit/conf/perl-5.24.2/.cpanplus/5.24.2/build/93C97TN6S4/Params-Classify-0.015/blib/arch
/usr/home/cpan/pit/64bit/conf/perl-5.24.2/.cpanplus/5.24.2/build/ypK0Pyum2W/Class-Mix-0.006/blib/lib
/usr/home/cpan/pit/64bit/conf/perl-5.24.2/.cpanplus/5.24.2/build/ypK0Pyum2W/Class-Mix-0.006/blib/arch
/usr/home/cpan/pit/64bit/conf/perl-5.24.2/.cpanplus/5.24.2/build/vA2qHUAV8M/Crypt-Eksblowfish-0.009/blib/lib
/usr/home/cpan/pit/64bit/conf/perl-5.24.2/.cpanplus/5.24.2/build/vA2qHUAV8M/Crypt-Eksblowfish-0.009/blib/arch
/usr/home/cpan/pit/64bit/conf/perl-5.24.2/.cpanplus/5.24.2/build/bi3qB_pEYc/DBI-1.643/blib/lib
/usr/home/cpan/pit/64bit/conf/perl-5.24.2/.cpanplus/5.24.2/build/bi3qB_pEYc/DBI-1.643/blib/arch
/usr/home/cpan/pit/64bit/perl-5.24.2/lib/site_perl/5.24.2/i386-freebsd-64int
/usr/home/cpan/pit/64bit/perl-5.24.2/lib/site_perl/5.24.2
/usr/home/cpan/pit/64bit/perl-5.24.2/lib/5.24.2/i386-freebsd-64int
/usr/home/cpan/pit/64bit/perl-5.24.2/lib/5.24.2
.