POE v1.370 Perl 5 v5.37.8 darwin-2level
- Status
- Pass
- From
- Dist
-
POE v1.370
- Platform
- Perl 5 v5.37.8 darwin-2level
- Date
- 2023-01-21T21:46:45
- ID
- 19b0e240-99d5-11ed-9b7f-a473548739d6
This distribution has been tested as part of the CPAN Testers
project, supporting the Perl programming language. See
http://wiki.cpantesters.org/ for more information or email
questions to cpan-testers-discuss@perl.org
--
Dear BINGOS,
This is a computer-generated report for POE-1.370
on perl 5.37.8, created by App::cpanminus::reporter 0.17 (1.7046).
Thank you for uploading your work to CPAN. Congratulations!
All tests were successful.
Sections of this report:
* Tester comments
* Program output
* Prerequisites
* Environment and other context
------------------------------
TESTER COMMENTS
------------------------------
Additional comments from tester:
none provided
------------------------------
PROGRAM OUTPUT
------------------------------
Output from '':
Building and testing POE-1.370
"/Volumes/chambord/Users/ether/perl5/perlbrew/perls/37.8/bin/perl5.37.8" mylib/gen-tests.perl lib/POE.pm
"/Volumes/chambord/Users/ether/perl5/perlbrew/perls/37.8/bin/perl5.37.8" mylib/gen-tests.perl lib/POE.pm
PERL_DL_NONLAZY=1 "/Volumes/chambord/Users/ether/perl5/perlbrew/perls/37.8/bin/perl5.37.8" "-MExtUtils::Command::MM" "-MTest::Harness" "-e" "undef *Test::Harness::Switches; test_harness(0, 'blib/lib', 'blib/arch')" t/*.t t/*/*.t t/*/*/*.t
t/10_units/01_pod/01_pod.t ......................... skipped: enable by setting RELEASE_TESTING
t/10_units/01_pod/02_pod_coverage.t ................ skipped: enable by setting RELEASE_TESTING
t/10_units/01_pod/03_pod_no404s.t .................. skipped: enable by setting RELEASE_TESTING
t/10_units/01_pod/04_pod_linkcheck.t ............... skipped: enable by setting RELEASE_TESTING
t/10_units/02_pipes/01_base.t ...................... skipped: not implemented yet
# Testing POE 1.370, POE::Test::Loops 1.360, Perl 5.037008, /Volumes/chambord/Users/ether/perl5/perlbrew/perls/37.8/bin/perl5.37.8 on darwin
# pogomips: 74407276
t/00_info.t ........................................ ok
t/10_units/02_pipes/02_oneway.t .................... ok
t/10_units/02_pipes/03_twoway.t .................... ok
t/10_units/03_base/03_component.t .................. ok
t/10_units/03_base/04_driver.t ..................... ok
t/10_units/03_base/01_poe.t ........................ ok
t/10_units/03_base/05_filter.t ..................... ok
t/10_units/03_base/08_resource.t ................... ok
t/10_units/03_base/07_queue.t ...................... ok
t/10_units/03_base/06_loop.t ....................... ok
t/10_units/03_base/10_wheel.t ...................... ok
t/10_units/03_base/09_resources.t .................. ok
t/10_units/03_base/13_assert_data.t ................ ok
t/10_units/03_base/11_assert_usage.t ............... ok
t/10_units/03_base/14_kernel.t ..................... ok
t/10_units/03_base/16_nfa_usage.t .................. ok
t/10_units/03_base/12_assert_retval.t .............. ok
t/10_units/03_base/15_kernel_internal.t ............ ok
t/10_units/04_drivers/01_sysrw.t ................... ok
t/10_units/05_filters/01_block.t ................... ok
t/10_units/03_base/17_detach_start.t ............... ok
t/10_units/05_filters/02_grep.t .................... ok
t/10_units/05_filters/04_line.t .................... ok
t/10_units/05_filters/05_map.t ..................... ok
t/10_units/05_filters/06_recordblock.t ............. ok
Downgrading wide characters in HTTP header. Consider installing Email::MIME::RFC2047::Encoder at /Volumes/chambord/Users/ether/.cpanm/work/1674335693.17013/POE-1.370/blib/lib/POE/Filter/HTTPD.pm line 73.
POE::Filter::HTTPD::__ANON__("En \x{e9}t\x{e9}") called at /Volumes/chambord/Users/ether/.cpanm/work/1674335693.17013/POE-1.370/blib/lib/POE/Filter/HTTPD.pm line 449
POE::Filter::HTTPD::headers_as_strings(POE::Filter::HTTPD=ARRAY(0x122939e80), HTTP::Headers=HASH(0x12298b0b8), "\x{d}\x{a}") called at /Volumes/chambord/Users/ether/.cpanm/work/1674335693.17013/POE-1.370/blib/lib/POE/Filter/HTTPD.pm line 411
POE::Filter::HTTPD::put(POE::Filter::HTTPD=ARRAY(0x122939e80), ARRAY(0x12298ab48)) called at t/10_units/05_filters/03_http.t line 426
t/10_units/05_filters/03_http.t .................... ok
t/10_units/05_filters/08_stream.t .................. ok
t/10_units/05_filters/07_reference.t ............... ok
t/10_units/05_filters/50_stackable.t ............... ok
t/10_units/05_filters/51_reference_die.t ........... ok
t/10_units/05_filters/99_filterchange.t ............ ok
t/10_units/07_exceptions/03_not_handled.t .......... ok
t/10_units/07_exceptions/02_turn_off.t ............. ok
t/10_units/08_loops/01_explicit_loop.t ............. ok
t/10_units/08_loops/02_explicit_loop_fail.t ........ ok
t/10_units/06_queues/01_array.t .................... ok
t/10_units/08_loops/05_kernel_loop.t ............... ok
t/10_units/08_loops/03_explicit_loop_poll.t ........ ok
t/10_units/08_loops/04_explicit_loop_envvar.t ...... ok
t/10_units/08_loops/07_kernel_loop_fail.t .......... ok
t/10_units/08_loops/06_kernel_loop_poll.t .......... ok
t/10_units/08_loops/08_kernel_loop_search_poll.t ... ok
t/10_units/08_loops/10_naive_loop_load_poll.t ...... ok
t/10_units/08_loops/09_naive_loop_load.t ........... ok
t/10_units/08_loops/11_double_loop.t ............... ok
t/20_resources/10_perl/caller_state.t .............. ok
t/20_resources/10_perl/aliases.t ................... ok
t/20_resources/10_perl/events.t .................... ok
t/20_resources/10_perl/extrefs.t ................... ok
t/20_resources/10_perl/extrefs_gc.t ................ ok
t/20_resources/10_perl/sessions.t .................. ok
t/20_resources/10_perl/sids.t ...................... ok
t/20_resources/10_perl/signals.t ................... ok
t/30_loops/io_poll/all_errors.t .................... skipped: most of these should move into other test files
# Testing POE 1.370, POE::Test::Loops 1.360, Using Loop(POE::Loop::IO_Poll), Perl 5.037008, /Volumes/chambord/Users/ether/perl5/perlbrew/perls/37.8/bin/perl5.37.8 on darwin
t/30_loops/io_poll/00_info.t ....................... ok
t/30_loops/io_poll/comp_tcp.t ...................... ok
# You might see a 'disconnect' error during this test.
# It may be ignored.
t/30_loops/io_poll/connect_errors.t ................ ok
t/30_loops/io_poll/comp_tcp_concurrent.t ........... ok
t/30_loops/io_poll/k_aliases.t ..................... ok
t/30_loops/io_poll/k_run_returns.t ................. ok
t/10_units/07_exceptions/01_normal.t ............... ok
t/30_loops/io_poll/k_alarms.t ...................... ok
t/30_loops/io_poll/k_detach.t ...................... ok
t/30_loops/io_poll/k_signals_rerun.t ............... ok
t/30_loops/io_poll/ses_nfa.t ....................... ok
# This test generates some STDERR during trace testing.
t/20_resources/10_perl/filehandles.t ............... ok
t/30_loops/io_poll/k_sig_child.t ................... ok
t/30_loops/io_poll/sbk_signal_init.t ............... ok
t/30_loops/io_poll/wheel_curses.t .................. skipped: Curses not available
t/30_loops/io_poll/wheel_readline.t ................ ok
t/30_loops/io_poll/wheel_run.t ..................... ok
t/30_loops/io_poll/k_signals.t ..................... ok
t/30_loops/io_poll/wheel_run_size.t ................ skipped: This test requires Term::Size
t/30_loops/io_poll/wheel_sf_ipv6.t ................. skipped: Socket::GetAddrInfo is needed for IPv6 tests
t/30_loops/io_poll/wheel_sf_tcp.t .................. ok
t/30_loops/io_poll/wheel_sf_unix.t ................. ok
t/30_loops/io_poll/wheel_accept.t .................. ok
t/30_loops/io_poll/k_selects.t ..................... ok
t/30_loops/io_poll/wheel_readwrite.t ............... ok
# Using '/usr/bin/true' as our thing to run under system()
t/30_loops/io_poll/z_merijn_sigchld_system.t ....... ok
t/30_loops/io_poll/z_kogman_sig_order.t ............ ok
# Parent 91956 waiting 3sec for slow systems to settle.
t/30_loops/io_poll/wheel_sf_udp.t .................. ok
t/30_loops/io_poll/z_rt39872_sigchld.t ............. ok
t/30_loops/io_poll/z_leolo_wheel_run.t ............. ok
t/30_loops/io_poll/wheel_tail.t .................... ok
t/30_loops/io_poll/z_rt53302_fh_watchers.t ......... ok
t/30_loops/io_poll/z_steinert_signal_integrity.t ... ok
t/30_loops/select/all_errors.t ..................... skipped: most of these should move into other test files
# Testing POE 1.370, POE::Test::Loops 1.360, Using Loop(POE::Loop::Select), Perl 5.037008, /Volumes/chambord/Users/ether/perl5/perlbrew/perls/37.8/bin/perl5.37.8 on darwin
t/30_loops/select/00_info.t ........................ ok
t/30_loops/select/comp_tcp.t ....................... ok
# You might see a 'disconnect' error during this test.
# It may be ignored.
t/30_loops/select/connect_errors.t ................. ok
t/30_loops/select/comp_tcp_concurrent.t ............ ok
t/30_loops/select/k_aliases.t ...................... ok
t/30_loops/select/k_run_returns.t .................. ok
t/30_loops/select/k_alarms.t ....................... ok
t/30_loops/select/k_detach.t ....................... ok
=== 91917 === 23 -> _start (from /Volumes/chambord/Users/ether/.cpanm/work/1674335693.17013/POE-1.370/blib/lib/POE/Kernel.pm at 1498)
=== 91917 === 23 -> woot (from /Volumes/chambord/Users/ether/.perlbrew/libs/37.8@std/lib/perl5/POE/Test/Loops/ses_session.pm at 691)
# sending sigusr1
# sent sigusr1
t/30_loops/io_poll/z_rt39872_sigchld_stop.t ........ ok
t/30_loops/select/k_signals_rerun.t ................ ok
t/30_loops/io_poll/z_rt54319_bazerka_followtail.t .. ok
t/30_loops/select/k_sig_child.t .................... ok
t/30_loops/select/k_selects.t ...................... ok
t/30_loops/select/k_signals.t ...................... ok
t/30_loops/select/ses_nfa.t ........................ ok
t/30_loops/select/wheel_curses.t ................... skipped: Curses not available
# This test generates some STDERR during trace testing.
=== 91917 === 23 -> narf (from /Volumes/chambord/Users/ether/.perlbrew/libs/37.8@std/lib/perl5/POE/Test/Loops/ses_session.pm at 692)
=== 91917 === 23 -> _stop (from /Volumes/chambord/Users/ether/.cpanm/work/1674335693.17013/POE-1.370/blib/lib/POE/Resource/Sessions.pm at 571)
t/30_loops/io_poll/ses_session.t ................... ok
t/30_loops/select/wheel_readline.t ................. ok
t/30_loops/select/wheel_run_size.t ................. skipped: This test requires Term::Size
t/30_loops/select/wheel_sf_ipv6.t .................. skipped: Socket::GetAddrInfo is needed for IPv6 tests
t/30_loops/select/wheel_run.t ...................... ok
t/30_loops/select/wheel_sf_tcp.t ................... ok
t/30_loops/select/wheel_sf_unix.t .................. ok
t/30_loops/select/wheel_readwrite.t ................ ok
t/30_loops/select/wheel_sf_udp.t ................... ok
t/30_loops/select/sbk_signal_init.t ................ ok
t/30_loops/select/z_kogman_sig_order.t ............. ok
# Using '/usr/bin/true' as our thing to run under system()
t/30_loops/select/z_merijn_sigchld_system.t ........ ok
# Parent 92048 waiting 3sec for slow systems to settle.
t/30_loops/select/wheel_accept.t ................... ok
t/30_loops/select/z_rt39872_sigchld.t .............. ok
t/30_loops/select/wheel_tail.t ..................... ok
t/30_loops/select/z_leolo_wheel_run.t .............. ok
t/90_regression/agaran-filter-httpd.t .............. ok
t/90_regression/averell-callback-ret.t ............. ok
t/90_regression/bingos-followtail.t ................ ok
t/90_regression/broeren-win32-nbio.t ............... skipped: This test examines ActiveState Perl behavior.
t/90_regression/cfedde-filter-httpd.t .............. ok
t/30_loops/select/z_steinert_signal_integrity.t .... ok
t/90_regression/grinnz-die-in-die.t ................ ok
t/90_regression/ferrari-server-unix.t .............. ok
t/30_loops/select/z_rt53302_fh_watchers.t .......... ok
Died at t/90_regression/hinrik-wheel-run-die.t line 21.
t/90_regression/hinrik-wheel-run-die.t ............. ok
# This test can take up to 10 seconds
# This test can take up to 10 seconds
# This test can take up to 10 seconds
t/90_regression/kjeldahl-stop-start-sig-nopipe.t ... ok
t/90_regression/kjeldahl-stop-start-polling.t ...... ok
t/90_regression/kjeldahl-stop-start-sig-pipe.t ..... ok
t/90_regression/leolo-sig-die.t .................... ok
t/90_regression/neyuki_detach.t .................... ok
t/90_regression/meh-startstop-return.t ............. ok
t/90_regression/prumike-win32-stat.t ............... skipped: This test examines Strawberry/ActiveState Perl behavior.
t/90_regression/rt14444-arg1.t ..................... ok
t/90_regression/rt19908-merlyn-stop.t .............. ok
t/90_regression/rt1648-tied-stderr.t ............... ok
t/90_regression/rt23181-sigchld-rc.t ............... ok
t/90_regression/rt47966-sigchld.t .................. skipped: enable by setting RELEASE_TESTING
t/90_regression/rt65460-forking.t .................. skipped: enable by setting (AUTOMATED|RELEASE)_TESTING
t/90_regression/rt56417-wheel-run.t ................ ok
t/90_regression/socketfactory-timeout.t ............ ok
t/90_regression/steinert-passed-wheel.t ............ ok
t/90_regression/somni-poco-server-tcp.t ............ ok
t/90_regression/suzman_windows.t ................... ok
t/90_regression/ton-stop-corruption.t .............. ok
t/90_regression/whelan-dieprop.t ................... ok
# sending sigusr1
# sent sigusr1
t/30_loops/select/z_rt39872_sigchld_stop.t ......... ok
=== 92007 === 23 -> _start (from /Volumes/chambord/Users/ether/.cpanm/work/1674335693.17013/POE-1.370/blib/lib/POE/Kernel.pm at 1498)
=== 92007 === 23 -> woot (from /Volumes/chambord/Users/ether/.perlbrew/libs/37.8@std/lib/perl5/POE/Test/Loops/ses_session.pm at 691)
t/30_loops/select/z_rt54319_bazerka_followtail.t ... ok
t/90_regression/pipe-followtail.t .................. ok
t/90_regression/tracing-sane-exit.t ................ ok
=== 92007 === 23 -> narf (from /Volumes/chambord/Users/ether/.perlbrew/libs/37.8@std/lib/perl5/POE/Test/Loops/ses_session.pm at 692)
=== 92007 === 23 -> _stop (from /Volumes/chambord/Users/ether/.cpanm/work/1674335693.17013/POE-1.370/blib/lib/POE/Resource/Sessions.pm at 571)
t/30_loops/select/ses_session.t .................... ok
t/90_regression/whjackson-followtail.t ............. ok
All tests successful.
Test Summary Report
-------------------
t/10_units/05_filters/03_http.t (Wstat: 0 Tests: 137 Failed: 0)
TODO passed: 85
Files=161, Tests=4221, 13 wallclock secs ( 0.30 usr 0.21 sys + 7.44 cusr 1.47 csys = 9.42 CPU)
Result: PASS
------------------------------
PREREQUISITES
------------------------------
Prerequisite modules loaded:
No requirements found
------------------------------
ENVIRONMENT AND OTHER CONTEXT
------------------------------
Environment variables:
HARNESS_OPTIONS = j6:c
LANG = en_CA.UTF-8
NO_NETWORK_TESTING = 1
PATH = /Volumes/chambord/Users/ether/.perlbrew/libs/37.8@std/bin:/Volumes/chambord/Users/ether/perl5/perlbrew/bin:/Volumes/chambord/Users/ether/perl5/perlbrew/perls/37.8/bin:/Volumes/chambord/Users/ether/bin:/Volumes/chambord/Users/ether/git/misc/install/advocaat.local/bin:/Volumes/chambord/Users/ether/git/misc/install/generic/bin:/opt/local/bin:/opt/local/sbin:/Volumes/chambord/Users/ether/git/git-hub/lib:/usr/local/bin:/System/Cryptexes/App/usr/bin:/usr/bin:/bin:/usr/sbin:/sbin:/Library/Apple/usr/bin:/opt/local/share/git-core/contrib/workdir
PERL5LIB = /Volumes/chambord/Users/ether/.perlbrew/libs/37.8@std/lib/perl5
PERLBREW_HOME = /Volumes/chambord/Users/ether/.perlbrew
PERLBREW_LIB = std
PERLBREW_MANPATH = /Volumes/chambord/Users/ether/.perlbrew/libs/37.8@std/man:/Volumes/chambord/Users/ether/perl5/perlbrew/perls/37.8/man
PERLBREW_PATH = /Volumes/chambord/Users/ether/.perlbrew/libs/37.8@std/bin:/Volumes/chambord/Users/ether/perl5/perlbrew/bin:/Volumes/chambord/Users/ether/perl5/perlbrew/perls/37.8/bin
PERLBREW_PERL = 37.8
PERLBREW_ROOT = /Volumes/chambord/Users/ether/perl5/perlbrew
PERLBREW_SHELLRC_VERSION = 0.96
PERLBREW_VERSION = 0.96
PERLDOC = -oman
PERLDOC_PAGER = less -sicMr
PERL_AUTOINSTALL_PREFER_CPAN = 1
PERL_INSTALL_QUIET = 1
PERL_LOCAL_LIB_ROOT = /Volumes/chambord/Users/ether/.perlbrew/libs/37.8@std
PERL_MB_OPT = --install_base /Volumes/chambord/Users/ether/.perlbrew/libs/37.8@std
PERL_MM_OPT = INSTALL_BASE=/Volumes/chambord/Users/ether/.perlbrew/libs/37.8@std
PERL_TEST_HARNESS_ASAP = 1
PERL_USE_UNSAFE_INC = 0
SHELL = /bin/bash
TERM = xterm-color
Perl special variables (and OS-specific diagnostics, for MSWin32):
EGID = 20 20 12 61 79 80 81 98 701 704 703 702 33 100 204 250 395
EUID = 502
EXECUTABLE_NAME = /Volumes/chambord/Users/ether/perl5/perlbrew/perls/37.8/bin/perl5.37.8
GID = 20 20 12 61 79 80 81 98 701 704 703 702 33 100 204 250 395
UID = 502
Perl module toolchain versions installed:
Module Have
------------------- --------
CPAN 2.34
CPAN::Meta 2.150010
Cwd 3.88
ExtUtils::CBuilder 0.280238
ExtUtils::Command 7.66
ExtUtils::Install 2.22
ExtUtils::MakeMaker 7.66
ExtUtils::Manifest 1.73
ExtUtils::ParseXS 3.49
File::Spec 3.88
JSON 4.10
JSON::PP 4.16
Module::Build 0.4232
Module::Signature n/a
Parse::CPAN::Meta 2.150010
Test::Harness 3.44
Test::More 1.302191
YAML 1.30
YAML::Syck 1.34
version 0.9929
--
Summary of my perl5 (revision 5 version 37 subversion 8) configuration:
Platform:
osname=darwin
osvers=22.2.0
archname=darwin-2level
uname='darwin advocaat.local 22.2.0 darwin kernel version 22.2.0: fri nov 11 02:06:26 pst 2022; root:xnu-8792.61.2~4release_arm64_t8112 arm64 '
config_args='-de -Dprefix=/Volumes/chambord/Users/ether/perl5/perlbrew/perls/37.8 -Dman1dir=none -Dman3dir=none -Dusedevel -Aeval:scriptdir=/Volumes/chambord/Users/ether/perl5/perlbrew/perls/37.8/bin'
hint=recommended
useposix=true
d_sigaction=define
useithreads=undef
usemultiplicity=undef
use64bitint=define
use64bitall=define
uselongdouble=undef
usemymalloc=n
default_inc_excludes_dot=define
Compiler:
cc='cc'
ccflags ='-fno-common -DPERL_DARWIN -mmacosx-version-min=13.1 -fno-strict-aliasing -pipe -fstack-protector-strong -I/opt/local/include'
optimize='-O3'
cppflags='-fno-common -DPERL_DARWIN -mmacosx-version-min=13.1 -fno-strict-aliasing -pipe -fstack-protector-strong -I/opt/local/include'
ccversion=''
gccversion='Apple LLVM 14.0.0 (clang-1400.0.29.202)'
gccosandvers=''
intsize=4
longsize=8
ptrsize=8
doublesize=8
byteorder=12345678
doublekind=3
d_longlong=define
longlongsize=8
d_longdbl=define
longdblsize=8
longdblkind=0
ivtype='long'
ivsize=8
nvtype='double'
nvsize=8
Off_t='off_t'
lseeksize=8
alignbytes=8
prototype=define
Linker and Libraries:
ld='cc'
ldflags =' -mmacosx-version-min=13.1 -fstack-protector-strong -L/opt/local/lib'
libpth=/Applications/Xcode.app/Contents/Developer/Toolchains/XcodeDefault.xctoolchain/usr/lib/clang/14.0.0/lib /Applications/Xcode.app/Contents/Developer/Platforms/MacOSX.platform/Developer/SDKs/MacOSX.sdk/usr/lib /Applications/Xcode.app/Contents/Developer/Toolchains/XcodeDefault.xctoolchain/usr/lib /opt/local/lib /usr/lib
libs=-lgdbm
perllibs=
libc=
so=dylib
useshrplib=false
libperl=libperl.a
gnulibc_version=''
Dynamic Linking:
dlsrc=dl_dlopen.xs
dlext=bundle
d_dlsymun=undef
ccdlflags=' '
cccdlflags=' '
lddlflags=' -mmacosx-version-min=13.1 -bundle -undefined dynamic_lookup -L/opt/local/lib -fstack-protector-strong'
Characteristics of this binary (from libperl):
Compile-time options:
HAS_TIMES
PERLIO_LAYERS
PERL_COPY_ON_WRITE
PERL_DONT_CREATE_GVSV
PERL_HASH_FUNC_SIPHASH13
PERL_HASH_USE_SBOX32
PERL_MALLOC_WRAP
PERL_OP_PARENT
PERL_PRESERVE_IVUV
PERL_USE_DEVEL
PERL_USE_SAFE_PUTENV
USE_64_BIT_ALL
USE_64_BIT_INT
USE_LARGE_FILES
USE_LOCALE
USE_LOCALE_COLLATE
USE_LOCALE_CTYPE
USE_LOCALE_NUMERIC
USE_LOCALE_TIME
USE_PERLIO
USE_PERL_ATOF
Built under darwin
Compiled at Jan 21 2023 12:20:19
%ENV:
PERL5LIB="/Volumes/chambord/Users/ether/.perlbrew/libs/37.8@std/lib/perl5"
PERLBREW_HOME="/Volumes/chambord/Users/ether/.perlbrew"
PERLBREW_LIB="std"
PERLBREW_MANPATH="/Volumes/chambord/Users/ether/.perlbrew/libs/37.8@std/man:/Volumes/chambord/Users/ether/perl5/perlbrew/perls/37.8/man"
PERLBREW_PATH="/Volumes/chambord/Users/ether/.perlbrew/libs/37.8@std/bin:/Volumes/chambord/Users/ether/perl5/perlbrew/bin:/Volumes/chambord/Users/ether/perl5/perlbrew/perls/37.8/bin"
PERLBREW_PERL="37.8"
PERLBREW_ROOT="/Volumes/chambord/Users/ether/perl5/perlbrew"
PERLBREW_SHELLRC_VERSION="0.96"
PERLBREW_VERSION="0.96"
PERLDOC="-oman"
PERLDOC_PAGER="less -sicMr"
PERL_AUTOINSTALL_PREFER_CPAN="1"
PERL_INSTALL_QUIET="1"
PERL_LOCAL_LIB_ROOT="/Volumes/chambord/Users/ether/.perlbrew/libs/37.8@std"
PERL_MB_OPT="--install_base /Volumes/chambord/Users/ether/.perlbrew/libs/37.8@std"
PERL_MM_OPT="INSTALL_BASE=/Volumes/chambord/Users/ether/.perlbrew/libs/37.8@std"
PERL_TEST_HARNESS_ASAP="1"
PERL_USE_UNSAFE_INC="0"
@INC:
/Volumes/chambord/Users/ether/.perlbrew/libs/37.8@std/lib/perl5/darwin-2level
/Volumes/chambord/Users/ether/.perlbrew/libs/37.8@std/lib/perl5
/Volumes/chambord/Users/ether/perl5/perlbrew/perls/37.8/lib/site_perl/5.37.8/darwin-2level
/Volumes/chambord/Users/ether/perl5/perlbrew/perls/37.8/lib/site_perl/5.37.8
/Volumes/chambord/Users/ether/perl5/perlbrew/perls/37.8/lib/5.37.8/darwin-2level
/Volumes/chambord/Users/ether/perl5/perlbrew/perls/37.8/lib/5.37.8