Template-Toolkit v3.101 Perl 5 v5.37.8 OpenBSD.amd64-openbsd
- Status
- Pass
- From
- Carlos Guevara
- Dist
-
Template-Toolkit v3.101
- Platform
- Perl 5 v5.37.8 OpenBSD.amd64-openbsd
- Date
- 2022-12-31T15:21:44
- ID
- d57aea10-891e-11ed-9f67-87bd46c80510
This distribution has been tested as part of the CPAN Testers
project, supporting the Perl programming language. See
http://wiki.cpantesters.org/ for more information or email
questions to cpan-testers-discuss@perl.org
--
Dear Andy Wardley,
This is a computer-generated report for Template-Toolkit-3.101
on perl 5.37.8, created by CPAN-Reporter-1.2018.
Thank you for uploading your work to CPAN. Congratulations!
All tests were successful.
Sections of this report:
* Tester comments
* Program output
* Prerequisites
* Environment and other context
------------------------------
TESTER COMMENTS
------------------------------
Additional comments from tester:
this report is from an automated smoke testing program
and was not reviewed by a human for accuracy
------------------------------
PROGRAM OUTPUT
------------------------------
Output from '/usr/bin/make test':
"/home/cpan/bin/perl-blead/bin/perl5.37.8" -MExtUtils::Command::MM -e 'cp_nonempty' -- XS.bs ../blib/arch/auto/Template/Stash/XS/XS.bs 644
"/home/cpan/bin/perl-blead/bin/perl5.37.8" -MExtUtils::Command::MM -e 'cp_nonempty' -- XS.bs ../blib/arch/auto/Template/Stash/XS/XS.bs 644
No tests defined for Template::Stash::XS extension.
PERL_DL_NONLAZY=1 "/home/cpan/bin/perl-blead/bin/perl5.37.8" "-MExtUtils::Command::MM" "-MTest::Harness" "-e" "undef *Test::Harness::Switches; test_harness(0, 'blib/lib', 'blib/arch')" t/anycase.t t/args.t t/assert.t t/base.t t/binop.t t/block.t t/block_duplicate.t t/blocks.t t/capture.t t/case.t t/chomp.t t/compile1.t t/compile2.t t/compile3.t t/compile4.t t/compile5.t t/config.t t/constants.t t/context.t t/datafile.t t/date.t t/date_offset.t t/date_utf8.t t/debug.t t/directive.t t/directry.t t/document.t t/dumper.t t/error.t t/evalperl.t t/exception.t t/factory.t t/file.t t/fileline.t t/filter.t t/foreach.t t/format.t t/html.t t/image.t t/include.t t/iterator.t t/leak.t t/list.t t/macro.t t/math.t t/math_rand.t t/mtime-zero.t t/object.t t/outline.t t/output.t t/parser.t t/parser2.t t/plugins.t t/plusfile.t t/pod.t t/prefix.t t/proc.t t/process-relative.t t/process.t t/process_dir.t t/provider.t t/ref.t t/scalar.t t/service.t t/skel.t t/stash-xs-unicode.t t/stash-xs.t t/stash.t t/stashc.t t/stop.t t/strcat.t t/strict.t t/string.t t/switch.t t/table.t t/tags.t t/template.t t/text.t t/throw.t t/tiedhash.t t/trace_vars.t t/try.t t/unicode.t t/url.t t/vars.t t/varsv1.t t/view.t t/while.t t/wrap.t t/wrapper.t t/zz-plugin-cycle.t t/zz-plugin-leak-gh-213.t t/zz-plugin-leak-rt-46691.t t/zz-plugin-leak.t t/zz-pmv.t t/zz-pod-coverage.t t/zz-pod-kwalitee.t t/zz-stash-xs-leak.t t/zz-url2.t t/vmethods/hash.t t/vmethods/list.t t/vmethods/replace.t t/vmethods/text.t
t/compile1.t ................. ok
t/compile2.t ................. ok
t/compile3.t ................. ok
t/compile4.t ................. ok
t/compile5.t ................. ok
t/anycase.t .................. ok
t/args.t ..................... ok
t/assert.t ................... ok
t/base.t ..................... ok
t/binop.t .................... ok
t/block.t .................... ok
t/block_duplicate.t .......... ok
t/blocks.t ................... ok
t/capture.t .................. ok
t/case.t ..................... ok
t/chomp.t .................... ok
t/config.t ................... ok
t/constants.t ................ ok
t/context.t .................. ok
t/datafile.t ................. ok
t/date.t ..................... ok
t/date_offset.t .............. ok
t/date_utf8.t ................ skipped: Need to set env variable AUTHOR_TESTING=1
t/debug.t .................... ok
t/directive.t ................ ok
t/directry.t ................. ok
t/document.t ................. ok
t/dumper.t ................... ok
t/error.t .................... ok
t/evalperl.t ................. ok
t/exception.t ................ ok
t/factory.t .................. ok
t/file.t ..................... ok
t/fileline.t ................. ok
t/filter.t ................... ok
t/foreach.t .................. ok
t/format.t ................... ok
t/html.t ..................... ok
t/image.t .................... skipped: Neither Image::Info nor Image::Size installed
t/include.t .................. ok
t/iterator.t ................. ok
t/leak.t ..................... ok
t/list.t ..................... ok
t/macro.t .................... ok
t/math.t ..................... ok
t/math_rand.t ................ ok
t/mtime-zero.t ............... ok
t/object.t ................... ok
t/outline.t .................. ok
t/output.t ................... ok
t/parser.t ................... ok
t/parser2.t .................. ok
t/plugins.t .................. ok
t/plusfile.t ................. ok
t/pod.t ...................... skipped: Pod::POM not installed
t/prefix.t ................... ok
t/proc.t ..................... ok
t/process-relative.t ......... ok
t/process.t .................. ok
t/process_dir.t .............. ok
t/provider.t ................. ok
t/ref.t ...................... ok
t/scalar.t ................... ok
t/service.t .................. ok
t/skel.t ..................... ok
t/stash-xs-unicode.t ......... ok
t/stash-xs.t ................. ok
t/stash.t .................... ok
t/stashc.t ................... ok
t/stop.t ..................... ok
t/strcat.t ................... ok
t/strict.t ................... ok
t/string.t ................... ok
t/switch.t ................... ok
t/table.t .................... ok
t/tags.t ..................... ok
t/template.t ................. ok
t/text.t ..................... ok
t/throw.t .................... ok
t/tiedhash.t ................. ok
t/trace_vars.t ............... ok
t/try.t ...................... ok
t/unicode.t .................. ok
t/url.t ...................... ok
t/vars.t ..................... ok
t/varsv1.t ................... ok
t/view.t ..................... ok
t/vmethods/hash.t ............ ok
t/vmethods/list.t ............ ok
t/vmethods/replace.t ......... ok
t/vmethods/text.t ............ ok
t/while.t .................... ok
t/wrap.t ..................... ok
t/wrapper.t .................. ok
t/zz-plugin-cycle.t .......... ok
t/zz-plugin-leak-gh-213.t .... skipped: Broken on older perls. We need to sort this out once everything is passing
t/zz-plugin-leak-rt-46691.t .. ok
t/zz-plugin-leak.t ........... skipped: Internal test for developer, add the --dev flag to run
t/zz-pmv.t ................... skipped: These aren't the tests you're looking for... move along
t/zz-pod-coverage.t .......... skipped: Author tests not required for installation
t/zz-pod-kwalitee.t .......... skipped: Author tests not required for installation
t/zz-stash-xs-leak.t ......... skipped: Internal test for developer, add the --dev flag to run
t/zz-url2.t .................. skipped: We can't agree on the right joint for the URL plugin
All tests successful.
Files=103, Tests=2913, 35 wallclock secs ( 0.88 usr 0.58 sys + 16.18 cusr 4.58 csys = 22.22 CPU)
Result: PASS
------------------------------
PREREQUISITES
------------------------------
Prerequisite modules loaded:
requires:
Module Need Have
------------------- ---- ------
AppConfig 1.56 1.71
File::Spec 0.8 3.88
File::Temp 0.12 0.2311
Scalar::Util 0 1.63
build_requires:
Module Need Have
------------------- ---- ------
ExtUtils::MakeMaker 0 7.66
Test::LeakTrace 0 0.17
------------------------------
ENVIRONMENT AND OTHER CONTEXT
------------------------------
Environment variables:
AUTOMATED_TESTING = 1
DATE_MANIP_TEST_DM5 = 1
LC_ALL = C
NONINTERACTIVE_TESTING = 1
NO_NETWORK_TESTING = 1
PATH = /home/cpan/bin/perl-blead/bin:/home/cpan/bin:/home/cpan/bin:/bin:/sbin:/usr/bin:/usr/sbin:/usr/X11R6/bin:/usr/local/bin:/usr/local/sbin
PERL5LIB =
PERL5OPT =
PERL5_CPANPLUS_IS_RUNNING = 2055
PERL5_CPAN_IS_RUNNING = 2055
PERL_MM_USE_DEFAULT = 1
PERL_USE_UNSAFE_INC = 1
PERL_VERSION = blead
SHELL = /usr/local/bin/bash
TERM = screen
TMPDIR = /home/cpan/tmp
Perl special variables (and OS-specific diagnostics, for MSWin32):
$^X = /home/cpan/bin/perl-blead/bin/perl5.37.8
$UID/$EUID = 1001 / 1001
$GID = 1001 1001
$EGID = 1001 1001
Perl module toolchain versions installed:
Module Have
------------------- --------
CPAN 2.34
CPAN::Meta 2.150010
Cwd 3.88
ExtUtils::CBuilder 0.280238
ExtUtils::Command 7.66
ExtUtils::Install 2.22
ExtUtils::MakeMaker 7.66
ExtUtils::Manifest 1.73
ExtUtils::ParseXS 3.49
File::Spec 3.88
JSON 4.10
JSON::PP 4.13
Module::Build 0.4232
Module::Signature n/a
Parse::CPAN::Meta 2.150010
Test::Harness 3.44
Test::More 1.302191
YAML 1.30
YAML::Syck 1.34
version 0.9929
--
Summary of my perl5 (revision 5 version 37 subversion 8) configuration:
Commit id: 3b3e6fa172116bcd194dab07bf8893e6dd383c18
Platform:
osname=openbsd
osvers=7.2
archname=OpenBSD.amd64-openbsd
uname='openbsd cjg-openbsd7 7.2 generic#4 amd64 '
config_args='-des -Dprefix=~/bin/perl-blead -Dscriptdir=~/bin/perl-blead/bin -Dusedevel -Duse64bitall'
hint=recommended
useposix=true
d_sigaction=define
useithreads=undef
usemultiplicity=undef
use64bitint=define
use64bitall=define
uselongdouble=undef
usemymalloc=n
default_inc_excludes_dot=define
Compiler:
cc='cc'
ccflags ='-fno-strict-aliasing -pipe -fstack-protector-strong -I/usr/local/include'
optimize='-O2'
cppflags='-fno-strict-aliasing -pipe -fstack-protector-strong -I/usr/local/include'
ccversion=''
gccversion='OpenBSD Clang 13.0.0'
gccosandvers=''
intsize=4
longsize=8
ptrsize=8
doublesize=8
byteorder=12345678
doublekind=3
d_longlong=define
longlongsize=8
d_longdbl=define
longdblsize=16
longdblkind=3
ivtype='long'
ivsize=8
nvtype='double'
nvsize=8
Off_t='off_t'
lseeksize=8
alignbytes=8
prototype=define
Linker and Libraries:
ld='cc'
ldflags ='-Wl,-E -fstack-protector-strong -L/usr/local/lib'
libpth=/usr/lib/clang/13.0.0/lib /usr/lib /usr/local/lib
libs=-lpthread -lm -lutil -lc
perllibs=-lpthread -lm -lutil -lc
libc=/usr/lib/libc.so.96.2
so=so
useshrplib=false
libperl=libperl.a
gnulibc_version=''
Dynamic Linking:
dlsrc=dl_dlopen.xs
dlext=so
d_dlsymun=undef
ccdlflags=' '
cccdlflags='-DPIC -fPIC '
lddlflags='-shared -fPIC -L/usr/local/lib -fstack-protector-strong'
Characteristics of this binary (from libperl):
Compile-time options:
HAS_TIMES
PERLIO_LAYERS
PERL_COPY_ON_WRITE
PERL_DONT_CREATE_GVSV
PERL_HASH_FUNC_SIPHASH13
PERL_HASH_USE_SBOX32
PERL_MALLOC_WRAP
PERL_OP_PARENT
PERL_PRESERVE_IVUV
PERL_USE_DEVEL
PERL_USE_SAFE_PUTENV
USE_64_BIT_ALL
USE_64_BIT_INT
USE_LARGE_FILES
USE_LOCALE
USE_LOCALE_COLLATE
USE_LOCALE_CTYPE
USE_LOCALE_NUMERIC
USE_LOCALE_TIME
USE_PERLIO
USE_PERL_ATOF
Built under openbsd
Compiled at Dec 30 2022 21:26:16
%ENV:
PERL5LIB=""
PERL5OPT=""
PERL5_CPANPLUS_IS_RUNNING="2055"
PERL5_CPAN_IS_RUNNING="2055"
PERL_MM_USE_DEFAULT="1"
PERL_USE_UNSAFE_INC="1"
PERL_VERSION="blead"
@INC:
/home/cpan/bin/perl-blead/lib/site_perl/5.37.8/OpenBSD.amd64-openbsd
/home/cpan/bin/perl-blead/lib/site_perl/5.37.8
/home/cpan/bin/perl-blead/lib/5.37.8/OpenBSD.amd64-openbsd
/home/cpan/bin/perl-blead/lib/5.37.8
.